BEGIN:VCALENDAR
VERSION:2.0
PRODID:-//IFIA | International Federation of Inventors' Associations - ECPv6.15.20//NONSGML v1.0//EN
CALSCALE:GREGORIAN
METHOD:PUBLISH
X-WR-CALNAME:IFIA | International Federation of Inventors' Associations
X-ORIGINAL-URL:https://ifia.com
X-WR-CALDESC:Events for IFIA | International Federation of Inventors' Associations
REFRESH-INTERVAL;VALUE=DURATION:PT1H
X-Robots-Tag:noindex
X-PUBLISHED-TTL:PT1H
BEGIN:VTIMEZONE
TZID:Europe/Zurich
BEGIN:DAYLIGHT
TZOFFSETFROM:+0100
TZOFFSETTO:+0200
TZNAME:CEST
DTSTART:20250330T010000
END:DAYLIGHT
BEGIN:STANDARD
TZOFFSETFROM:+0200
TZOFFSETTO:+0100
TZNAME:CET
DTSTART:20251026T010000
END:STANDARD
BEGIN:DAYLIGHT
TZOFFSETFROM:+0100
TZOFFSETTO:+0200
TZNAME:CEST
DTSTART:20260329T010000
END:DAYLIGHT
BEGIN:STANDARD
TZOFFSETFROM:+0200
TZOFFSETTO:+0100
TZNAME:CET
DTSTART:20261025T010000
END:STANDARD
BEGIN:DAYLIGHT
TZOFFSETFROM:+0100
TZOFFSETTO:+0200
TZNAME:CEST
DTSTART:20270328T010000
END:DAYLIGHT
BEGIN:STANDARD
TZOFFSETFROM:+0200
TZOFFSETTO:+0100
TZNAME:CET
DTSTART:20271031T010000
END:STANDARD
END:VTIMEZONE
BEGIN:VEVENT
DTSTART;VALUE=DATE:20260829
DTEND;VALUE=DATE:20260830
DTSTAMP:20260420T084259
CREATED:20210726T013948Z
LAST-MODIFIED:20260122T064231Z
UID:10000005-1787961600-1788047999@ifia.com
SUMMARY:iCAN 2026-International Invention Innovation Competition in Canada
DESCRIPTION:[vc_row][vc_column][vc_column_text css=””] \niCAN 2026-International Invention Innovation Competition in Canada \nInternational Invention Innovation Competition in Canada\, iCAN organized by Toronto International Society of Innovation and Advanced Skills (TISIAS)\, locally supported by Innovation Initiative Co-operative Inc.\, and globally supported by the International Federation of Inventors’ Associations (IFIA). \nThis year\, the 11th International Invention Innovation Competition in Canada\, iCAN 2026 will be held online on August 29 and it is our honor to once again invite you to join us and share your ideas\, make an impact\, and be awarded for your outstanding creativity and innovation that Canada wants to see from you.  \niCAN is the world-recognized premier event of Canada for inventors which has shown continuous growth and improvement since its first edition in 2016 through 2025 with each year breaking the previous year’s records for the total number of participating inventions\, countries\, and collaborating organizations. iCAN 2026 last year featured more than 802 inventions from 62 countries around the world. \nMore info: \niCAN: Toronto\, Canada August 29th\, 2026 \n \n[/vc_column_text][/vc_column][/vc_row]
URL:https://ifia.com/event/ican-2026/
LOCATION:Toronto\, Toronto\, Canada
ATTACH;FMTTYPE=image/jpeg:https://ifia.com/wp-content/uploads/2026/01/iCAN2026-BANNER-A.jpg
ORGANIZER;CN="Toronto International Society of Innovation and Advanced Skills":MAILTO:ican@tisias.org
END:VEVENT
END:VCALENDAR