BEGIN:VCALENDAR
VERSION:2.0
PRODID:-//IFIA | International Federation of Inventors' Associations - ECPv6.15.20//NONSGML v1.0//EN
CALSCALE:GREGORIAN
METHOD:PUBLISH
X-ORIGINAL-URL:https://ifia.com
X-WR-CALDESC:Events for IFIA | International Federation of Inventors' Associations
REFRESH-INTERVAL;VALUE=DURATION:PT1H
X-Robots-Tag:noindex
X-PUBLISHED-TTL:PT1H
BEGIN:VTIMEZONE
TZID:Europe/Zurich
BEGIN:DAYLIGHT
TZOFFSETFROM:+0100
TZOFFSETTO:+0200
TZNAME:CEST
DTSTART:20210328T010000
END:DAYLIGHT
BEGIN:STANDARD
TZOFFSETFROM:+0200
TZOFFSETTO:+0100
TZNAME:CET
DTSTART:20211031T010000
END:STANDARD
BEGIN:DAYLIGHT
TZOFFSETFROM:+0100
TZOFFSETTO:+0200
TZNAME:CEST
DTSTART:20220327T010000
END:DAYLIGHT
BEGIN:STANDARD
TZOFFSETFROM:+0200
TZOFFSETTO:+0100
TZNAME:CET
DTSTART:20221030T010000
END:STANDARD
BEGIN:DAYLIGHT
TZOFFSETFROM:+0100
TZOFFSETTO:+0200
TZNAME:CEST
DTSTART:20230326T010000
END:DAYLIGHT
BEGIN:STANDARD
TZOFFSETFROM:+0200
TZOFFSETTO:+0100
TZNAME:CET
DTSTART:20231029T010000
END:STANDARD
END:VTIMEZONE
BEGIN:VEVENT
DTSTART;TZID=Europe/Zurich:20220927T090000
DTEND;TZID=Europe/Zurich:20220930T170000
DTSTAMP:20260424T102225
CREATED:20220113T081903Z
LAST-MODIFIED:20220624T085936Z
UID:10000017-1664269200-1664557200@ifia.com
SUMMARY:Africa Invention and Innovation Expo (AIlE 2022)
DESCRIPTION: Africa Invention and Innovation Expo (AIlE 2022) \n\n\n\nThe Africa Invention and Innovation Expo (AIlE) is an International Expo that will deliberate on the need to foster the culture of creativity and innovations\, leading to impactful development; and address the exponential changes needed to significantly improve technology standards. It seeks to mobilize a network of innovators\, researchers\, investors\, and inventors driving business developers for networking and cross-collaboration. \nThis is organized by the Organization for Creativity\, Innovation\, and Invention Promotion (OCIIP). We partner with the world’s leading innovation and creativity providers from the academic community\, Innovation agencies\, government parastatals\, and industry to promote the works of creativity\, innovation and inventions across the global innovation ecosystems. The key features of this Expo are the Exhibition presentation\, innovation panel conversation\, and presentation of prizes and awards for outstanding innovation. \n\n\n\n  \nMore Information:  \nhttps://ifia.com/mobile_event/africa-aiie-2022/
URL:https://ifia.com/event/aiie-2022/
LOCATION:Nigeria\, Abuja\, Abuja\, Rivers State\, Nigeria
ATTACH;FMTTYPE=image/jpeg:https://ifia.com/wp-content/uploads/2022/06/AIIE-2022-Poster-2.jpg
ORGANIZER;CN="The Organization for Creativity%2C Innovation and Invention Promotion (OCIIP)":MAILTO:info@ociip.org
END:VEVENT
END:VCALENDAR