BEGIN:VCALENDAR
VERSION:2.0
PRODID:-//IFIA | International Federation of Inventors' Associations - ECPv6.15.20//NONSGML v1.0//EN
CALSCALE:GREGORIAN
METHOD:PUBLISH
X-ORIGINAL-URL:https://ifia.com
X-WR-CALDESC:Events for IFIA | International Federation of Inventors' Associations
REFRESH-INTERVAL;VALUE=DURATION:PT1H
X-Robots-Tag:noindex
X-PUBLISHED-TTL:PT1H
BEGIN:VTIMEZONE
TZID:Europe/Zurich
BEGIN:DAYLIGHT
TZOFFSETFROM:+0100
TZOFFSETTO:+0200
TZNAME:CEST
DTSTART:20250330T010000
END:DAYLIGHT
BEGIN:STANDARD
TZOFFSETFROM:+0200
TZOFFSETTO:+0100
TZNAME:CET
DTSTART:20251026T010000
END:STANDARD
BEGIN:DAYLIGHT
TZOFFSETFROM:+0100
TZOFFSETTO:+0200
TZNAME:CEST
DTSTART:20260329T010000
END:DAYLIGHT
BEGIN:STANDARD
TZOFFSETFROM:+0200
TZOFFSETTO:+0100
TZNAME:CET
DTSTART:20261025T010000
END:STANDARD
BEGIN:DAYLIGHT
TZOFFSETFROM:+0100
TZOFFSETTO:+0200
TZNAME:CEST
DTSTART:20270328T010000
END:DAYLIGHT
BEGIN:STANDARD
TZOFFSETFROM:+0200
TZOFFSETTO:+0100
TZNAME:CET
DTSTART:20271031T010000
END:STANDARD
END:VTIMEZONE
BEGIN:VEVENT
DTSTART;TZID=Europe/Zurich:20260609T080000
DTEND;TZID=Europe/Zurich:20260612T170000
DTSTAMP:20260421T022046
CREATED:20260420T133304Z
LAST-MODIFIED:20260420T133304Z
UID:10000052-1780992000-1781283600@ifia.com
SUMMARY:InnovaCities 2026 – 15th International Smart Cities Fair
DESCRIPTION:[vc_row][vc_column][vc_column_text css=””]The 15th edition of InnovaCities – the International Fair of Smart\, Joyful\, Humane\, and Resilient Cities\, will be held from June 9 to 12\, 2026\, in Foz do Iguaçu\, Paraná\, Brazil. Organized by ABIPIR – the Brazilian International Association of Inventors\, Scientists\, and Innovative Entrepreneurs\, and supported by IFIA – the International Federation of Inventors’ Associations\, the event is expected to gather a wide range of international participants\, including innovators\, researchers\, entrepreneurs\, and representatives from academia\, government\, and industry. \nBuilding on the success of previous editions\, InnovaCities 2026 will serve as a dynamic platform for dialogue\, collaboration\, and knowledge exchange\, fostering innovative solutions for the challenges faced by modern cities. The event aims to promote sustainable development\, technological advancement\, and inclusive growth through strong cooperation between public and private sectors. \nParticipants will have the opportunity to engage in high-level discussions\, explore emerging trends in smart city development\, and connect with global leaders in innovation and entrepreneurship. Through its multidisciplinary approach\, InnovaCities continues to strengthen the international innovation ecosystem and support the creation of resilient and future-ready urban environments \n [/vc_column_text][/vc_column][/vc_row]
URL:https://ifia.com/event/innovacities-2026-brazil/
LOCATION:Foz do Iguaçu – Paraná – Brazil\, Foz do Iguaçu – Paraná – Brazil
ATTACH;FMTTYPE=image/jpeg:https://ifia.com/wp-content/uploads/2026/04/IFIA-news_ICities_2026-01.jpg
END:VEVENT
END:VCALENDAR